BEGIN:VCALENDAR
VERSION:2.0
PRODID:-//St. Clair County Democratic Party - ECPv6.15.13//NONSGML v1.0//EN
CALSCALE:GREGORIAN
METHOD:PUBLISH
X-ORIGINAL-URL:https://www.stclaircountydemocrats.com
X-WR-CALDESC:Events for St. Clair County Democratic Party
REFRESH-INTERVAL;VALUE=DURATION:PT1H
X-Robots-Tag:noindex
X-PUBLISHED-TTL:PT1H
BEGIN:VTIMEZONE
TZID:America/Detroit
BEGIN:DAYLIGHT
TZOFFSETFROM:-0500
TZOFFSETTO:-0400
TZNAME:EDT
DTSTART:20240310T070000
END:DAYLIGHT
BEGIN:STANDARD
TZOFFSETFROM:-0400
TZOFFSETTO:-0500
TZNAME:EST
DTSTART:20241103T060000
END:STANDARD
BEGIN:DAYLIGHT
TZOFFSETFROM:-0500
TZOFFSETTO:-0400
TZNAME:EDT
DTSTART:20250309T070000
END:DAYLIGHT
BEGIN:STANDARD
TZOFFSETFROM:-0400
TZOFFSETTO:-0500
TZNAME:EST
DTSTART:20251102T060000
END:STANDARD
BEGIN:DAYLIGHT
TZOFFSETFROM:-0500
TZOFFSETTO:-0400
TZNAME:EDT
DTSTART:20260308T070000
END:DAYLIGHT
BEGIN:STANDARD
TZOFFSETFROM:-0400
TZOFFSETTO:-0500
TZNAME:EST
DTSTART:20261101T060000
END:STANDARD
END:VTIMEZONE
BEGIN:VEVENT
DTSTART;TZID=America/Detroit:20250808T120000
DTEND;TZID=America/Detroit:20250808T180000
DTSTAMP:20260421T130114
CREATED:20250803T164237Z
LAST-MODIFIED:20250803T164237Z
UID:2254-1754654400-1754676000@www.stclaircountydemocrats.com
SUMMARY:Patti and Mike's Charity Yard Sale
DESCRIPTION:If you are interested in more details\, here they are: \nWHAT: Patti and Mike’s Charity Yard Sale\nWHERE: 3559 River Road\, East China\, MI 48054\nWHEN: Friday\, Aug. 8 12-6pm; Saturday and Sunday Aug 9 & 10\, 10am-6pm \nPlease contact them at the emails below if you have any questions or want to help: \nIf you would like to donate items\, tables\, tents\, or time\, please contact Patti at pattisuhill@gmail.com or Mike at mikes66pics@att.net.
URL:https://www.stclaircountydemocrats.com/event/patti-and-mikes-charity-yard-sale/
LOCATION:MI
ORGANIZER;CN="Patti Hill":MAILTO:pattisuhill@gmail.com
END:VEVENT
BEGIN:VEVENT
DTSTART;TZID=America/Detroit:20250809T100000
DTEND;TZID=America/Detroit:20250809T180000
DTSTAMP:20260421T130114
CREATED:20250803T164417Z
LAST-MODIFIED:20250803T164605Z
UID:2258-1754733600-1754762400@www.stclaircountydemocrats.com
SUMMARY:Patti and Mike's Charity Yard Sale
DESCRIPTION:If you are interested in more details\, here they are: \nWHAT: Patti and Mike’s Charity Yard Sale\nWHERE: 3559 River Road\, East China\, MI 48054\nWHEN: Friday\, Aug. 8 12-6pm; Saturday and Sunday Aug 9 & 10\, 10am-6pm \nPlease contact them at the emails below if you have any questions or want to help: \nIf you would like to donate items\, tables\, tents\, or time\, please contact Patti at pattisuhill@gmail.com or Mike at mikes66pics@att.net.
URL:https://www.stclaircountydemocrats.com/event/patti-and-mikes-charity-yard-sale-2/
LOCATION:MI
ORGANIZER;CN="Patti Hill":MAILTO:pattisuhill@gmail.com
END:VEVENT
BEGIN:VEVENT
DTSTART;TZID=America/Detroit:20250810T100000
DTEND;TZID=America/Detroit:20250810T180000
DTSTAMP:20260421T130114
CREATED:20250803T164528Z
LAST-MODIFIED:20250803T164528Z
UID:2260-1754820000-1754848800@www.stclaircountydemocrats.com
SUMMARY:Patti and Mike's Charity Yard Sale
DESCRIPTION:If you are interested in more details\, here they are: \nWHAT: Patti and Mike’s Charity Yard Sale\nWHERE: 3559 River Road\, East China\, MI 48054\nWHEN: Friday\, Aug. 8 12-6pm; Saturday and Sunday Aug 9 & 10\, 10am-6pm \nPlease contact them at the emails below if you have any questions or want to help: \nIf you would like to donate items\, tables\, tents\, or time\, please contact Patti at pattisuhill@gmail.com or Mike at mikes66pics@att.net.
URL:https://www.stclaircountydemocrats.com/event/patti-and-mikes-charity-yard-sale-3/
LOCATION:MI
ORGANIZER;CN="Patti Hill":MAILTO:pattisuhill@gmail.com
END:VEVENT
BEGIN:VEVENT
DTSTART;TZID=America/Detroit:20250811T183000
DTEND;TZID=America/Detroit:20250811T213000
DTSTAMP:20260421T130114
CREATED:20250803T163515Z
LAST-MODIFIED:20250803T163515Z
UID:2251-1754937000-1754947800@www.stclaircountydemocrats.com
SUMMARY:August Membership Meeting
DESCRIPTION:Democrats! \nCome join us for our monthly meeting in August. \nWe plan on having speakers and gearing up for event later in August as well as the Fall Brunch. \nPlease come back closer to the meeting date for more details.
URL:https://www.stclaircountydemocrats.com/event/august-membership-meeting/
LOCATION:Blue Water Labor Temple\, 2441 West Water\, Port Huron\, 48060\, United States
ORGANIZER;CN="St. Clair County Democratic Party":MAILTO:sccdemsmi@gmail.com
END:VEVENT
END:VCALENDAR