BEGIN:VCALENDAR
VERSION:2.0
PRODID:-//St. Clair County Democratic Party - ECPv6.15.13//NONSGML v1.0//EN
CALSCALE:GREGORIAN
METHOD:PUBLISH
X-WR-CALNAME:St. Clair County Democratic Party
X-ORIGINAL-URL:https://www.stclaircountydemocrats.com
X-WR-CALDESC:Events for St. Clair County Democratic Party
REFRESH-INTERVAL;VALUE=DURATION:PT1H
X-Robots-Tag:noindex
X-PUBLISHED-TTL:PT1H
BEGIN:VTIMEZONE
TZID:America/Detroit
BEGIN:DAYLIGHT
TZOFFSETFROM:-0500
TZOFFSETTO:-0400
TZNAME:EDT
DTSTART:20240310T070000
END:DAYLIGHT
BEGIN:STANDARD
TZOFFSETFROM:-0400
TZOFFSETTO:-0500
TZNAME:EST
DTSTART:20241103T060000
END:STANDARD
BEGIN:DAYLIGHT
TZOFFSETFROM:-0500
TZOFFSETTO:-0400
TZNAME:EDT
DTSTART:20250309T070000
END:DAYLIGHT
BEGIN:STANDARD
TZOFFSETFROM:-0400
TZOFFSETTO:-0500
TZNAME:EST
DTSTART:20251102T060000
END:STANDARD
BEGIN:DAYLIGHT
TZOFFSETFROM:-0500
TZOFFSETTO:-0400
TZNAME:EDT
DTSTART:20260308T070000
END:DAYLIGHT
BEGIN:STANDARD
TZOFFSETFROM:-0400
TZOFFSETTO:-0500
TZNAME:EST
DTSTART:20261101T060000
END:STANDARD
END:VTIMEZONE
BEGIN:VEVENT
DTSTART;TZID=America/Detroit:20250512T183000
DTEND;TZID=America/Detroit:20250512T203000
DTSTAMP:20260421T080140
CREATED:20250410T130148Z
LAST-MODIFIED:20250410T130148Z
UID:2182-1747074600-1747081800@www.stclaircountydemocrats.com
SUMMARY:May Membership Meeting
DESCRIPTION:Come join us for our May meeting as we finalize preparations for our Spring Fling and other activities.
URL:https://www.stclaircountydemocrats.com/event/may-membership-meeting/
LOCATION:Blue Water Labor Temple\, 2441 West Water\, Port Huron\, 48060\, United States
END:VEVENT
BEGIN:VEVENT
DTSTART;TZID=America/Detroit:20250515T180000
DTEND;TZID=America/Detroit:20250515T200000
DTSTAMP:20260421T080140
CREATED:20250424T130918Z
LAST-MODIFIED:20250509T124441Z
UID:2191-1747332000-1747339200@www.stclaircountydemocrats.com
SUMMARY:Solidarity Summit
DESCRIPTION:Allied organizations are meeting to discuss our shared commitment to democracy and an action for democracy network. \nIf you are interested in participating\, please contact the Chair of the St. Clair County Democratic Party\, Jim Frank. \n810-858-0842 \nBy invitation or confirmation by the Chair. \n 
URL:https://www.stclaircountydemocrats.com/event/solidarity-summit/
LOCATION:Blue Water Labor Temple\, 2441 West Water\, Port Huron\, 48060\, United States
ORGANIZER;CN="St. Clair County Democratic Party":MAILTO:sccdemsmi@gmail.com
END:VEVENT
BEGIN:VEVENT
DTSTART;TZID=America/Detroit:20250517T110000
DTEND;TZID=America/Detroit:20250517T143000
DTSTAMP:20260421T080140
CREATED:20250410T130651Z
LAST-MODIFIED:20250509T124526Z
UID:2184-1747479600-1747492200@www.stclaircountydemocrats.com
SUMMARY:SCCDP Spring Fling
DESCRIPTION:Come join us for our annual spring event. \nWe have included a .pdf link if you wish to print off the flyer. \nSt Clair County Democratic Party Spring Fling \n 
URL:https://www.stclaircountydemocrats.com/event/sccdp-spring-fling/
LOCATION:Blue Water Labor Temple\, 2441 West Water\, Port Huron\, 48060\, United States
ORGANIZER;CN="St. Clair County Democratic Party":MAILTO:sccdemsmi@gmail.com
END:VEVENT
END:VCALENDAR