BEGIN:VCALENDAR
VERSION:2.0
PRODID:-//St. Clair County Democratic Party - ECPv6.15.13//NONSGML v1.0//EN
CALSCALE:GREGORIAN
METHOD:PUBLISH
X-ORIGINAL-URL:https://www.stclaircountydemocrats.com
X-WR-CALDESC:Events for St. Clair County Democratic Party
REFRESH-INTERVAL;VALUE=DURATION:PT1H
X-Robots-Tag:noindex
X-PUBLISHED-TTL:PT1H
BEGIN:VTIMEZONE
TZID:America/Detroit
BEGIN:DAYLIGHT
TZOFFSETFROM:-0500
TZOFFSETTO:-0400
TZNAME:EDT
DTSTART:20240310T070000
END:DAYLIGHT
BEGIN:STANDARD
TZOFFSETFROM:-0400
TZOFFSETTO:-0500
TZNAME:EST
DTSTART:20241103T060000
END:STANDARD
BEGIN:DAYLIGHT
TZOFFSETFROM:-0500
TZOFFSETTO:-0400
TZNAME:EDT
DTSTART:20250309T070000
END:DAYLIGHT
BEGIN:STANDARD
TZOFFSETFROM:-0400
TZOFFSETTO:-0500
TZNAME:EST
DTSTART:20251102T060000
END:STANDARD
BEGIN:DAYLIGHT
TZOFFSETFROM:-0500
TZOFFSETTO:-0400
TZNAME:EDT
DTSTART:20260308T070000
END:DAYLIGHT
BEGIN:STANDARD
TZOFFSETFROM:-0400
TZOFFSETTO:-0500
TZNAME:EST
DTSTART:20261101T060000
END:STANDARD
END:VTIMEZONE
BEGIN:VEVENT
DTSTART;TZID=America/Detroit:20251013T183000
DTEND;TZID=America/Detroit:20251013T183000
DTSTAMP:20260421T173640
CREATED:20251010T141449Z
LAST-MODIFIED:20251010T141505Z
UID:2263-1760380200-1760380200@www.stclaircountydemocrats.com
SUMMARY:October Monthly Meeting
DESCRIPTION:Democrats! \nJoin us on Monday October 13 at 6:30 at our monthly meeting on 2441 West Water in the Blue Water Labor Temple. \nWe will have monthly updates and are set to begin some actions for the upcoming two months. \nOne event which occurs in two differing locations will be Senior Power Days in Marine City and Port Huron on October 17th and October 24th respectively. Our calendar will have soon have the times and venues for those events. \nThe second is a food drive for food pantries in St. Clair County. We have identified specific pantries to support and will share details on Monday. \nHere is what to bring for Monday: \nCanned Soup (low sodium if possible)-Canned Pasta Meals (like ravioli)-Cereal-Juice-Cooking Oil-Tuna\, Salmon\, Chicken (Pull Top or Foil Packs help homeless most)-Canned Fruit (in Natural or Low Sugar Syrup)-Any Other Non-Perishables-Checks or Cash to Blue Water Food Depot also allows them to purchase discounted ground beef.These two pantries together serve nearly 1\,500 people monthly in our communities.Please bring some food and if possible some solid cardboard boxes so we can transport the food that is brought in. \nSee you on Monday! \n 
URL:https://www.stclaircountydemocrats.com/event/2263/
LOCATION:Blue Water Labor Temple\, 2441 West Water\, Port Huron\, 48060\, United States
ORGANIZER;CN="St. Clair County Democratic Party":MAILTO:sccdemsmi@gmail.com
END:VEVENT
END:VCALENDAR