BEGIN:VCALENDAR
VERSION:2.0
PRODID:-//St. Clair County Democratic Party - ECPv6.15.13//NONSGML v1.0//EN
CALSCALE:GREGORIAN
METHOD:PUBLISH
X-WR-CALNAME:St. Clair County Democratic Party
X-ORIGINAL-URL:https://www.stclaircountydemocrats.com
X-WR-CALDESC:Events for St. Clair County Democratic Party
REFRESH-INTERVAL;VALUE=DURATION:PT1H
X-Robots-Tag:noindex
X-PUBLISHED-TTL:PT1H
BEGIN:VTIMEZONE
TZID:America/Detroit
BEGIN:DAYLIGHT
TZOFFSETFROM:-0500
TZOFFSETTO:-0400
TZNAME:EDT
DTSTART:20240310T070000
END:DAYLIGHT
BEGIN:STANDARD
TZOFFSETFROM:-0400
TZOFFSETTO:-0500
TZNAME:EST
DTSTART:20241103T060000
END:STANDARD
BEGIN:DAYLIGHT
TZOFFSETFROM:-0500
TZOFFSETTO:-0400
TZNAME:EDT
DTSTART:20250309T070000
END:DAYLIGHT
BEGIN:STANDARD
TZOFFSETFROM:-0400
TZOFFSETTO:-0500
TZNAME:EST
DTSTART:20251102T060000
END:STANDARD
BEGIN:DAYLIGHT
TZOFFSETFROM:-0500
TZOFFSETTO:-0400
TZNAME:EDT
DTSTART:20260308T070000
END:DAYLIGHT
BEGIN:STANDARD
TZOFFSETFROM:-0400
TZOFFSETTO:-0500
TZNAME:EST
DTSTART:20261101T060000
END:STANDARD
END:VTIMEZONE
BEGIN:VEVENT
DTSTART;TZID=America/Detroit:20250714T183000
DTEND;TZID=America/Detroit:20250714T210000
DTSTAMP:20260421T125951
CREATED:20250708T001025Z
LAST-MODIFIED:20250713T150838Z
UID:2235-1752517800-1752526800@www.stclaircountydemocrats.com
SUMMARY:July Meeting
DESCRIPTION:  \n \nJoin us for our next meeting on Monday\, July 14. \nFollow the link to find our agenda: \n7.14.25 General Membership Meeting Agenda \nWe will have some guests joining us to talk about ranked choice voting\, a candidate for AG by Zoom–Mark Totten\, and Ray Pooley who announced his candidacy for Congress in CD9. \nWe have some quick business to attend to\, but we will break into committees to get some work done. \nHere are the new bylaws we will be reviewing for next month’s meeting: \nSCCDC Bylaws (Revised 2025) \nJoin us as we plan our Summer of Action\, the Fall Brunch\, political action\, and other matters. \nSee you Monday. \nOur Zoom link for the meeting will be sent out before the meeting on Monday.
URL:https://www.stclaircountydemocrats.com/event/2235/
LOCATION:Blue Water Labor Temple\, 2441 West Water\, Port Huron\, 48060\, United States
ORGANIZER;CN="St. Clair County Democratic Party":MAILTO:sccdemsmi@gmail.com
END:VEVENT
END:VCALENDAR