BEGIN:VCALENDAR
VERSION:2.0
PRODID:-//St. Clair County Democratic Party - ECPv6.15.13//NONSGML v1.0//EN
CALSCALE:GREGORIAN
METHOD:PUBLISH
X-ORIGINAL-URL:https://www.stclaircountydemocrats.com
X-WR-CALDESC:Events for St. Clair County Democratic Party
REFRESH-INTERVAL;VALUE=DURATION:PT1H
X-Robots-Tag:noindex
X-PUBLISHED-TTL:PT1H
BEGIN:VTIMEZONE
TZID:America/Detroit
BEGIN:DAYLIGHT
TZOFFSETFROM:-0500
TZOFFSETTO:-0400
TZNAME:EDT
DTSTART:20240310T070000
END:DAYLIGHT
BEGIN:STANDARD
TZOFFSETFROM:-0400
TZOFFSETTO:-0500
TZNAME:EST
DTSTART:20241103T060000
END:STANDARD
BEGIN:DAYLIGHT
TZOFFSETFROM:-0500
TZOFFSETTO:-0400
TZNAME:EDT
DTSTART:20250309T070000
END:DAYLIGHT
BEGIN:STANDARD
TZOFFSETFROM:-0400
TZOFFSETTO:-0500
TZNAME:EST
DTSTART:20251102T060000
END:STANDARD
BEGIN:DAYLIGHT
TZOFFSETFROM:-0500
TZOFFSETTO:-0400
TZNAME:EDT
DTSTART:20260308T070000
END:DAYLIGHT
BEGIN:STANDARD
TZOFFSETFROM:-0400
TZOFFSETTO:-0500
TZNAME:EST
DTSTART:20261101T060000
END:STANDARD
END:VTIMEZONE
BEGIN:VEVENT
DTSTART;TZID=America/Detroit:20250628T100000
DTEND;TZID=America/Detroit:20250628T130000
DTSTAMP:20260421T112123
CREATED:20250626T161514Z
LAST-MODIFIED:20250626T161514Z
UID:2230-1751104800-1751115600@www.stclaircountydemocrats.com
SUMMARY:Summer of Action
DESCRIPTION:  \nThe St. Clair County Democrats will be canvassing all summer long. We want to find out what matters to Democrats and who is interested in running for office in 2026. \nCome join the chair\, Jim Frank\, and our MDP field organizer\, Mona DeQuis\, for our next canvass.
URL:https://www.stclaircountydemocrats.com/event/summer-of-action/
LOCATION:Marysville High School\, 555 E. Huron Blvd.\, Marysville\, MI 48040\, Marysville\, MI\, 48040\, United States
ORGANIZER;CN="St. Clair County Democratic Party":MAILTO:sccdemsmi@gmail.com
END:VEVENT
END:VCALENDAR