BEGIN:VCALENDAR
VERSION:2.0
PRODID:-//St. Clair County Democratic Party - ECPv6.15.13//NONSGML v1.0//EN
CALSCALE:GREGORIAN
METHOD:PUBLISH
X-ORIGINAL-URL:https://www.stclaircountydemocrats.com
X-WR-CALDESC:Events for St. Clair County Democratic Party
REFRESH-INTERVAL;VALUE=DURATION:PT1H
X-Robots-Tag:noindex
X-PUBLISHED-TTL:PT1H
BEGIN:VTIMEZONE
TZID:America/Detroit
BEGIN:DAYLIGHT
TZOFFSETFROM:-0500
TZOFFSETTO:-0400
TZNAME:EDT
DTSTART:20240310T070000
END:DAYLIGHT
BEGIN:STANDARD
TZOFFSETFROM:-0400
TZOFFSETTO:-0500
TZNAME:EST
DTSTART:20241103T060000
END:STANDARD
BEGIN:DAYLIGHT
TZOFFSETFROM:-0500
TZOFFSETTO:-0400
TZNAME:EDT
DTSTART:20250309T070000
END:DAYLIGHT
BEGIN:STANDARD
TZOFFSETFROM:-0400
TZOFFSETTO:-0500
TZNAME:EST
DTSTART:20251102T060000
END:STANDARD
BEGIN:DAYLIGHT
TZOFFSETFROM:-0500
TZOFFSETTO:-0400
TZNAME:EDT
DTSTART:20260308T070000
END:DAYLIGHT
BEGIN:STANDARD
TZOFFSETFROM:-0400
TZOFFSETTO:-0500
TZNAME:EST
DTSTART:20261101T060000
END:STANDARD
END:VTIMEZONE
BEGIN:VEVENT
DTSTART;TZID=America/Detroit:20250609T183000
DTEND;TZID=America/Detroit:20250609T203000
DTSTAMP:20260421T112205
CREATED:20250609T014728Z
LAST-MODIFIED:20250609T014728Z
UID:2227-1749493800-1749501000@www.stclaircountydemocrats.com
SUMMARY:June Membership Meeting
DESCRIPTION:  \n \nJoin us for our monthly meeting. \nLook in your email for a Zoom link if you wish to join that way.
URL:https://www.stclaircountydemocrats.com/event/june-membership-meeting/
LOCATION:Blue Water Labor Temple\, 2441 West Water\, Port Huron\, 48060\, United States
ORGANIZER;CN="St. Clair County Democratic Party":MAILTO:sccdemsmi@gmail.com
END:VEVENT
END:VCALENDAR