BEGIN:VCALENDAR
VERSION:2.0
PRODID:-//St. Clair County Democratic Party - ECPv6.15.13//NONSGML v1.0//EN
CALSCALE:GREGORIAN
METHOD:PUBLISH
X-WR-CALNAME:St. Clair County Democratic Party
X-ORIGINAL-URL:https://www.stclaircountydemocrats.com
X-WR-CALDESC:Events for St. Clair County Democratic Party
REFRESH-INTERVAL;VALUE=DURATION:PT1H
X-Robots-Tag:noindex
X-PUBLISHED-TTL:PT1H
BEGIN:VTIMEZONE
TZID:America/Detroit
BEGIN:DAYLIGHT
TZOFFSETFROM:-0500
TZOFFSETTO:-0400
TZNAME:EDT
DTSTART:20240310T070000
END:DAYLIGHT
BEGIN:STANDARD
TZOFFSETFROM:-0400
TZOFFSETTO:-0500
TZNAME:EST
DTSTART:20241103T060000
END:STANDARD
BEGIN:DAYLIGHT
TZOFFSETFROM:-0500
TZOFFSETTO:-0400
TZNAME:EDT
DTSTART:20250309T070000
END:DAYLIGHT
BEGIN:STANDARD
TZOFFSETFROM:-0400
TZOFFSETTO:-0500
TZNAME:EST
DTSTART:20251102T060000
END:STANDARD
BEGIN:DAYLIGHT
TZOFFSETFROM:-0500
TZOFFSETTO:-0400
TZNAME:EDT
DTSTART:20260308T070000
END:DAYLIGHT
BEGIN:STANDARD
TZOFFSETFROM:-0400
TZOFFSETTO:-0500
TZNAME:EST
DTSTART:20261101T060000
END:STANDARD
END:VTIMEZONE
BEGIN:VEVENT
DTSTART;TZID=America/Detroit:20250517T110000
DTEND;TZID=America/Detroit:20250517T143000
DTSTAMP:20260421T094423
CREATED:20250410T130651Z
LAST-MODIFIED:20250509T124526Z
UID:2184-1747479600-1747492200@www.stclaircountydemocrats.com
SUMMARY:SCCDP Spring Fling
DESCRIPTION:Come join us for our annual spring event. \nWe have included a .pdf link if you wish to print off the flyer. \nSt Clair County Democratic Party Spring Fling \n 
URL:https://www.stclaircountydemocrats.com/event/sccdp-spring-fling/
LOCATION:Blue Water Labor Temple\, 2441 West Water\, Port Huron\, 48060\, United States
ORGANIZER;CN="St. Clair County Democratic Party":MAILTO:sccdemsmi@gmail.com
END:VEVENT
END:VCALENDAR